BEGIN:VCALENDAR
VERSION:2.0
PRODID:-//Firhouse Community College - ECPv4.6.2//NONSGML v1.0//EN
CALSCALE:GREGORIAN
METHOD:PUBLISH
X-WR-CALNAME:Firhouse Community College
X-ORIGINAL-URL:http://firhousecommunitycollege.ie
X-WR-CALDESC:Events for Firhouse Community College
BEGIN:VEVENT
DTSTART;TZID=UTC+0:20170911T083000
DTEND;TZID=UTC+0:20170911T093000
DTSTAMP:20171030T174310
CREATED:20170904T090753Z
LAST-MODIFIED:20170904T174610Z
UID:3914-1505118600-1505122200@firhousecommunitycollege.ie
SUMMARY:Parents Council Clothing Collection
DESCRIPTION:
URL:http://firhousecommunitycollege.ie/?tribe_events=parents-council-clothing-collection
CATEGORIES:All events,Charity Event
END:VEVENT
END:VCALENDAR