BEGIN:VCALENDAR
VERSION:2.0
PRODID:-//Firhouse Community College - ECPv4.6.2//NONSGML v1.0//EN
CALSCALE:GREGORIAN
METHOD:PUBLISH
X-WR-CALNAME:Firhouse Community College
X-ORIGINAL-URL:http://firhousecommunitycollege.ie
X-WR-CALDESC:Events for Firhouse Community College
BEGIN:VEVENT
DTSTART;TZID=UTC+0:20170907T200000
DTEND;TZID=UTC+0:20170907T210000
DTSTAMP:20171030T174114
CREATED:20170829T143922Z
LAST-MODIFIED:20170829T181806Z
UID:3903-1504814400-1504818000@firhousecommunitycollege.ie
SUMMARY:Meeting for all TY Parents
DESCRIPTION:
URL:http://firhousecommunitycollege.ie/?tribe_events=meeting-for-all-ty-parents
CATEGORIES:All events,Meetings
END:VEVENT
END:VCALENDAR